BEGIN:VCALENDAR
VERSION:2.0
PRODID:-//ChamberMaster//Event Calendar 2.0//EN
METHOD:PUBLISH
X-PUBLISHED-TTL:P3D
REFRESH-INTERVAL:P3D
CALSCALE:GREGORIAN
BEGIN:VEVENT
DTSTART:20180905T183000Z
DTEND:20180905T200000Z
X-MICROSOFT-CDO-ALLDAYEVENT:FALSE
SUMMARY:September Membership Luncheon - Economic Development: Meet Me on Meeker Project
DESCRIPTION:Kent Chamber of Commerce\n\nSeptember Membership Luncheon\n\nSeptember 5th from 11:30 a.m. to 1 p.m.\n\nGolden Steer Steak n' Rib House  - 23826 104th Ave SE\, Kent\, WA 98031 \n\nCost:  $20 members prepaid\, $25 members day of event\, $30 guests\n\nCity of Kent Economic Development Presentation with an Emphasis on the Meet Me on Meeker Project.\n\n Speaker: Bill Ellis\, Economic Development Manager with the City of Kent\n\n \n\nJoin us on September 5th to network with fellow business leaders\, enjoy a delicious lunch and hear about the positive expansion & economic development going on in Kent.  \n\nThe presentation will focus on the exciting project to redesign Meeker Street\, called "Meet Me on Meeker." The project seeks to reimagine a key commercial corridor and gateway to our downtown into a multimodal\, urban complete street with a strong sense of place. \n\nSponsored by: KSC Freight\, Inc. \n\nHosted by: Golden Steer Steak n' Rib House
X-ALT-DESC;FMTTYPE=text/html:<span style="font-size:12px\;"><span style="font-weight:bold\;language:en-US\;"><span style="font-family:times new roman\;">Kent Chamber of Commerce</span></span><br />\n<span style="font-weight:bold\;language:en-US\;"><span style="color:#C00000\;"><span style="font-family:times new roman\;">September Membership Luncheon</span></span></span><br />\n<span style="font-weight:bold\;language:en-US\;"><span style="font-family:times new roman\;">September 5th from 11:30 a.m. to 1 p.m.</span></span><br />\n<span style="font-family:times new roman\;">Golden Steer Steak n&rsquo\; Rib House&nbsp\; - 23826 104th Ave SE\, Kent\, WA 98031 </span><br />\n<span style="font-style:italic\;language:en-US\;"><span style="font-family:times new roman\;">Cost:&nbsp\; $20 members prepaid\, $25 members day of event\, $30 guests</span></span><br />\n<span style="font-weight:bold\;language:en-US\;"><span style="color:#006666\;"><span style="font-family:times new roman\;">City of Kent Economic Development Presentation with an Emphasis on the Meet Me on Meeker Project.</span></span></span><br />\n&nbsp\;<span style="font-weight:bold\;language:en-US\;"><span style="color:#006666\;"><span style="font-family:times new roman\;">Speaker: Bill Ellis\, Economic Development Manager with the City of Kent</span></span></span><br />\n&nbsp\;<br />\n<span style="font-weight:bold\;language:en-US\;"><span style="font-family:times new roman\;">Join us on September 5th to network with fellow business leaders\, enjoy a delicious lunch and hear about the positive expansion &amp\; economic development going on in Kent.&nbsp\; </span></span><br />\n<span style="font-family:times new roman\;">The presentation will focus on the exciting project to redesign Meeker Street\, called &ldquo\;Meet Me on Meeker.&rdquo\; The project seeks to reimagine a key commercial corridor and gateway to our downtown into a multimodal\, urban complete street with a strong sense of place. </span><br />\n<span style="font-weight:bold\;language:en-US\;"><span style="font-family:times new roman\;">Sponsored by: KSC Freight\, Inc. </span></span><br />\n<span style="font-weight:bold\;language:en-US\;"><span style="font-family:times new roman\;">Hosted by: Golden Steer Steak n&rsquo\; Rib House</span></span></span><br />\n&nbsp\;<br />\n&nbsp\;
LOCATION:Golden Steer Steak n' Rib House - 23826 104th Ave SE\, Kent\, WA 98031
UID:e.444.245221
SEQUENCE:3
DTSTAMP:20260425T192059Z
URL:https://info.kentchamber.com/events/details/september-membership-luncheon-economic-development-meet-me-on-meeker-project-245221
END:VEVENT

END:VCALENDAR
