BEGIN:VCALENDAR
VERSION:2.0
PRODID:-//ChamberMaster//Event Calendar 2.0//EN
METHOD:PUBLISH
X-PUBLISHED-TTL:P3D
REFRESH-INTERVAL:P3D
CALSCALE:GREGORIAN
BEGIN:VEVENT
DTSTART:20251204T190000Z
DTEND:20251204T210000Z
X-MICROSOFT-CDO-ALLDAYEVENT:FALSE
SUMMARY:Membership Luncheon: Nonprofit Appreciation
DESCRIPTION:Join us for the Kent Chamber of Commerce's annual Nonprofit Appreciation Luncheon\, a heartfelt celebration of the incredible organizations and individuals who strengthen our community every day.\n\nThis special gathering will bring together local nonprofits\, community partners\, and supporters for a dynamic afternoon of networking\, inspiration\, and recognition. Guests will enjoy a delicious lunch while exploring a Nonprofit Showcase featuring organizations making a lasting impact in Kent and the surrounding region.\n\nThe program will include an engaging panel discussion with leaders who champion nonprofit growth\, sustainability\, and collaboration\, offering valuable insights and resources to help our local organizations thrive.\n\nPanel Discussion: "Empowering Nonprofits for Greater Impact"\n\nHear from experts and community partners who provide vital support to the nonprofit sector. Topics will include funding strategies\, partnerships\, organizational development\, and innovative ways to expand your reach.\n\nInvited Panelists Include:\n\n\n	\n	Lori Guilfoyle - City of Kent Human Services\n	\n	Diane Lyons - Nonprofit Association of WA\n\n\nNonprofit Showcase Participants (12 free spaces available):\n\n- Vine Maple Place\n\n- STEM Paths Innovation Network\n\n- Seattle's Union Gospel Mission\n\n Send Taylor request to showcase your Nonprofit!\n\n\n\nExplore tables hosted by organizations doing remarkable work in our community.Whether you're a nonprofit leader\, business partner\, or community advocate\, this luncheon is your opportunity to connect\, collaborate\, and celebrate the collective power of service.
X-ALT-DESC;FMTTYPE=text/html:<p data-end="663" data-start="463"><br />\nJoin us for the Kent Chamber of Commerce&rsquo\;s annual <strong data-end="548" data-start="513">Nonprofit Appreciation Luncheon</strong>\, a heartfelt celebration of the incredible organizations and individuals who strengthen our community every day.</p>\n\n<p data-end="992" data-start="665">This special gathering will bring together local nonprofits\, community partners\, and supporters for a dynamic afternoon of networking\, inspiration\, and recognition. Guests will enjoy a delicious lunch while exploring a <strong data-end="906" data-start="884">Nonprofit Showcase</strong> featuring organizations making a lasting impact in Kent and the surrounding region.</p>\n\n<p data-end="1212" data-start="994">The program will include an engaging <strong data-end="1051" data-start="1031">panel discussion</strong> with leaders who champion nonprofit growth\, sustainability\, and collaboration\, offering valuable insights and resources to help our local organizations thrive.</p>\n\n<p data-end="1498" data-start="1214"><strong data-end="1278" data-start="1214">Panel Discussion: &ldquo\;Empowering Nonprofits for Greater Impact&rdquo\;</strong><br data-end="1281" data-start="1278" />\nHear from experts and community partners who provide vital support to the nonprofit sector. Topics will include funding strategies\, partnerships\, organizational development\, and innovative ways to expand your reach.</p>\n\n<p data-end="1532" data-start="1500"><strong data-end="1530" data-start="1500">Invited Panelists Include:</strong></p>\n\n<ul data-end="1716" data-start="1533">\n	<li data-end="1624" data-start="1580">\n	<p data-end="1624" data-start="1582"><em data-end="1622" data-start="1611">Lori Guilfoyle - City of Kent Human Services</em></p>\n	</li>\n	<li data-end="1671" data-start="1627"><em>Diane Lyons - Nonprofit Association of WA</em></li>\n</ul>\n\n<p data-end="1837" data-start="1718"><strong data-end="1754" data-start="1718">Nonprofit Showcase Participants (12 free spaces available):<br />\n- Vine Maple Place<br />\n- STEM Paths Innovation Network<br />\n- Seattle&#39\;s Union Gospel Mission<br />\n&nbsp\;<a href="mailto:TSageman@kentchamber.com?subject=Showcase%20Request%3A%20Nonprofit%20Appreciation%20Luncheon">Send Taylor request to showcase your Nonprofit!</a></strong><br />\n<br data-end="1757" data-start="1754" />\nExplore tables hosted by organizations doing remarkable work in our community.Whether you&rsquo\;re a nonprofit leader\, business partner\, or community advocate\, this luncheon is your opportunity to connect\, collaborate\, and celebrate the collective power of service.</p>\n
LOCATION:Green River College - Kent Campus 417 Ramsay Way #112\, Room 282/283 Kent\, WA 98032
UID:e.444.251350
SEQUENCE:3
DTSTAMP:20260425T205400Z
URL:https://info.kentchamber.com/events/details/membership-luncheon-nonprofit-appreciation-251350
END:VEVENT

END:VCALENDAR
