BEGIN:VCALENDAR
VERSION:2.0
PRODID:-//ChamberMaster//Event Calendar 2.0//EN
METHOD:PUBLISH
X-PUBLISHED-TTL:P3D
REFRESH-INTERVAL:P3D
CALSCALE:GREGORIAN
BEGIN:VEVENT
DTSTART;VALUE=DATE:20220117
DTEND;VALUE=DATE:20220118
TRANSP:TRANSPARENT
X-MICROSOFT-CDO-ALLDAYEVENT:TRUE
SUMMARY:Martin Luther King Jr. Day
DESCRIPTION:HOLIDAY : Office open
X-ALT-DESC;FMTTYPE=text/html:HOLIDAY : Office open
LOCATION:
UID:e.444.249008
SEQUENCE:3
DTSTAMP:20260420T172618Z
URL:https://info.kentchamber.com/events/details/martin-luther-king-jr-day-249008
END:VEVENT

END:VCALENDAR
