BEGIN:VCALENDAR
VERSION:2.0
PRODID:-//ChamberMaster//Event Calendar 2.0//EN
METHOD:PUBLISH
X-PUBLISHED-TTL:P3D
REFRESH-INTERVAL:P3D
CALSCALE:GREGORIAN
BEGIN:VEVENT
DTSTART:20260513T143000Z
DTEND:20260513T153000Z
X-MICROSOFT-CDO-ALLDAYEVENT:FALSE
SUMMARY:Coffee with the Kent Chamber CEO
DESCRIPTION:Join us for Coffee with the Chamber CEO\, an exclusive quarterly meet and greet for new members. This is an opportunity to sit down with Chamber CEO Zenovia Harris\, along with Chamber board members and staff\, to share your Chamber needs\, discuss what you hope to gain from your membership\, and help us learn more about your business. We look forward to welcoming you\, answering questions\, and getting to know how we can best support you.
X-ALT-DESC;FMTTYPE=text/html:Join us for Coffee with the Chamber CEO\, an exclusive quarterly meet and greet for new members. This is an opportunity to sit down with Chamber CEO Zenovia Harris\, along with Chamber board members and staff\, to share your Chamber needs\, discuss what you hope to gain from your membership\, and help us learn more about your business. We look forward to welcoming you\, answering questions\, and getting to know how we can best support you.
LOCATION:Kent Chamber Office 524 West Meeker Kent\, WA
UID:e.444.251692
SEQUENCE:3
DTSTAMP:20260424T205504Z
URL:https://info.kentchamber.com/events/details/coffee-with-the-kent-chamber-ceo-251692
END:VEVENT

END:VCALENDAR
