BEGIN:VCALENDAR
VERSION:2.0
PRODID:-//ChamberMaster//Event Calendar 2.0//EN
METHOD:PUBLISH
X-PUBLISHED-TTL:P3D
REFRESH-INTERVAL:P3D
CALSCALE:GREGORIAN
BEGIN:VEVENT
DTSTART:20220106T190000Z
DTEND:20220106T210000Z
X-MICROSOFT-CDO-ALLDAYEVENT:FALSE
SUMMARY:2022 State of the Chamber Luncheon - Virtual Event via Zoom
DESCRIPTION:2022 State of the Chamber Luncheon\n\nJoin the KCC Staff in an overview of 2021\, learn about upcoming programs and opportunities. You don't want to miss our fun award ceremony!
X-ALT-DESC;FMTTYPE=text/html:<span style="font-size:14px\;"><strong>2022 State of the Chamber Luncheon</strong><br />\n<span class="JsGRdQ">Join the KCC Staff in an overview of 2021\, learn about upcoming programs and opportunities. You don&#39\;t want to miss our fun award ceremony!</span></span><br />\n<br />\n&nbsp\;
LOCATION:Online via Zoom
UID:e.444.249239
SEQUENCE:3
DTSTAMP:20260420T184637Z
URL:https://info.kentchamber.com/events/details/2022-state-of-the-chamber-luncheon-virtual-event-via-zoom-249239
END:VEVENT

END:VCALENDAR
