BEGIN:VCALENDAR
VERSION:2.0
PRODID:-//ChamberMaster//Event Calendar 2.0//EN
METHOD:PUBLISH
X-PUBLISHED-TTL:P3D
REFRESH-INTERVAL:P3D
CALSCALE:GREGORIAN
BEGIN:VEVENT
DTSTART:20171214T213000Z
DTEND:20171214T230000Z
X-MICROSOFT-CDO-ALLDAYEVENT:FALSE
SUMMARY:Three Ways to Advertise on Google with AssetLab
DESCRIPTION:3 Ways to Advertise on Google with AssetLab\n\nOnline advertising is a great way to bring great value for your marketing dollar. Come and learn three specific tactics you can use to advertise on Google\, grow your business\, and control your spending.\n\n\n\nFind out more about AssetLab - http://assetlab.us/
X-ALT-DESC;FMTTYPE=text/html:<strong><span style="color:#212121\;">3 Ways to Advertise on Google with AssetLab</span></strong><br />\n<span style="font-family:calibri\,sans-serif\;"><span style="font-size:11.0pt\;">Online advertising is a great way to bring great value for your marketing dollar. Come and learn three specific tactics you can use to advertise on Google\, grow your business\, and control your spending.</span></span><br />\n<br />\nFind out more about AssetLab -&nbsp\;http://assetlab.us/<br />\n&nbsp\;
LOCATION:Shannon & Associates Conference Room located at the Kent Chamber of Commerce office at 524 West Meeker\, Suite 1 in downtown Kent.
UID:e.444.244141
SEQUENCE:3
DTSTAMP:20260420T083250Z
URL:http://info.kentchamber.com/events/details/three-ways-to-advertise-on-google-with-assetlab-244141
END:VEVENT

END:VCALENDAR
