BEGIN:VCALENDAR
VERSION:2.0
PRODID:-//ChamberMaster//Event Calendar 2.0//EN
METHOD:PUBLISH
X-PUBLISHED-TTL:P3D
REFRESH-INTERVAL:P3D
CALSCALE:GREGORIAN
BEGIN:VEVENT
DTSTART:20171017T203000Z
DTEND:20171017T220000Z
X-MICROSOFT-CDO-ALLDAYEVENT:FALSE
SUMMARY:Three Ways to Advertise on Facebook with AssetLab
DESCRIPTION:3 Ways to Advertise on Facebook\n\nAdvertising on social media is easy when you know what works. Come learn three specific tactics you can use to advertise on Facebook to get great results while controlling your spending.\n\n\n\nFind out more about AssetLab - http://assetlab.us/
X-ALT-DESC;FMTTYPE=text/html:<strong><span style="color:#212121\;">3 Ways to Advertise on Facebook</span></strong><br />\n<span style="color:#212121\;">Advertising on social media is easy when you know what works. Come learn three specific tactics you can use to advertise on Facebook to get great results while controlling your spending.<br />\n<br />\nFind out more about AssetLab -&nbsp\;</span>http://assetlab.us/<br />\n<br />\n&nbsp\;
LOCATION:Shannon & Associates Conference Room located at the Kent Chamber of Commerce at 524 West Meeker\, Suite 1 in downtown Kent.
UID:e.444.244139
SEQUENCE:3
DTSTAMP:20260425T234312Z
URL:http://info.kentchamber.com/events/details/three-ways-to-advertise-on-facebook-with-assetlab-244139
END:VEVENT

END:VCALENDAR
