BEGIN:VCALENDAR
VERSION:2.0
PRODID:-//ChamberMaster//Event Calendar 2.0//EN
METHOD:PUBLISH
X-PUBLISHED-TTL:P3D
REFRESH-INTERVAL:P3D
CALSCALE:GREGORIAN
BEGIN:VEVENT
DTSTART:20171212T153000Z
DTEND:20171212T170000Z
X-MICROSOFT-CDO-ALLDAYEVENT:FALSE
SUMMARY:SSCCLC Breakfast with guest speaker Governor Inslee
DESCRIPTION:Join the South South Chambers of Commerce Legislative Coalition for the biggest business breakfast in the South Sound featuring key note speaker:  Governor Jay Inslee.\n\n\n\nPlease follow this link to register for the breakfast:\n\n\n\nhttps://squareup.com/store/south-sound-chambers-of-commerce-legislative-coalition
X-ALT-DESC;FMTTYPE=text/html:Join the South South Chambers of Commerce Legislative Coalition for the biggest business breakfast in the South Sound featuring key note speaker:&nbsp\; Governor Jay Inslee.<br />\n<br />\nPlease follow this link to register for the breakfast:<br />\n<br />\n<span style="font-family: &quot\;Calibri&quot\;\,&quot\;sans-serif&quot\;\; font-size: 11pt\; mso-fareast-font-family: Calibri\; mso-fareast-theme-font: minor-latin\; mso-bidi-font-family: &quot\;Times New Roman&quot\;\; mso-ansi-language: EN-US\; mso-fareast-language: EN-US\; mso-bidi-language: AR-SA\;"><a href="https://squareup.com/store/south-sound-chambers-of-commerce-legislative-coalition"><font color="#0000ff">https://squareup.com/store/south-sound-chambers-of-commerce-legislative-coalition</font></a><font color="#000000"> </font></span>
LOCATION:Emerald Downs - 2300 Ron Crockett Dr\, Auburn\, WA 98001
UID:e.444.244137
SEQUENCE:3
DTSTAMP:20260421T020457Z
URL:http://info.kentchamber.com/events/details/sscclc-breakfast-with-guest-speaker-governor-inslee-244137
END:VEVENT

END:VCALENDAR
