BEGIN:VCALENDAR
VERSION:2.0
PRODID:-//ChamberMaster//Event Calendar 2.0//EN
METHOD:PUBLISH
X-PUBLISHED-TTL:P3D
REFRESH-INTERVAL:P3D
CALSCALE:GREGORIAN
BEGIN:VEVENT
DTSTART:20210506T183000Z
DTEND:20210506T200000Z
X-MICROSOFT-CDO-ALLDAYEVENT:FALSE
SUMMARY:Membership Luncheon - Puget Sound Energy
DESCRIPTION:Please join the Kent Chamber of Commerce as we host Puget Sound Energy at our May membership luncheon. PSE has a rich history of energy leadership\, ground-breaking innovation and dedicated service to our customers and local communities Our mission today is deep decarbonization and greenhouse gas emissions reduction. We will be coal free by 2025\, carbon neutral by 2030\, and have 100% clean electricity by 2045. Our local distribution system will have net zero methane emissions by 2022.\n\n \n\n\nGuest Speaker\n\nAndy Wappler \n\nVice President\, Customer Operations and Communications Andy Wappler is vice president\, Customer Operations & Communications for Puget Sound Energy. Andy leads the company's customer care\, customer engagement\, communications\, community engagement\, and strategic business intelligence teams. His groups are charged with coordinating outreach with customers\, communities and stakeholders\; enhancing our data capability\; and developing our customer service platform.\n\n \n\n\n\n\n\n \n\nRegister Online\n\nOnce you register you will be provided with the zoom meeting link\n\nEvent Sponsor: Abyssinia Hair & Beauty Clinic\n\nMedia Sponsor: iLoveKent.net
X-ALT-DESC;FMTTYPE=text/html:<div style="color: rgb(170\, 170\, 170)\; font-style: italic\;"><span style="color:#000000\;"><span style="background:white\;"><span style="font-size:10.5pt\;">Please join the Kent Chamber of Commerce as we host Puget Sound Energy at our May membership luncheon. P</span></span><span style="font-variant-ligatures:normal\;font-variant-caps:normal\;orphans:2\;widows:2\;-webkit-text-stroke-width:0px\;text-decoration-thickness:initial\;text-decoration-style:initial\;word-spacing:0px\;">SE has a rich history of energy leadership\, ground-breaking innovation and dedicated service to our customers and local communities&nbsp\;Our mission today is deep decarbonization and greenhouse gas emissions reduction. We will be coal free by 2025\, carbon neutral by 2030\, and have 100% clean electricity by 2045. Our local distribution system will have net zero methane emissions by 2022.</span></span><br />\n&nbsp\;</div>\n<br />\n<span style="font-family: tahoma\; font-size: 12px\; font-weight: 700\;"><span style="font-size:14px\;"><span style="font-family:courier new\;">Guest Speaker<br />\nAndy Wappler&nbsp\;</span></span></span><br />\nVice President\, Customer Operations and Communications Andy Wappler is vice president\, Customer Operations &amp\; Communications for Puget Sound Energy.&nbsp\;Andy leads the company&#39\;s customer care\, customer engagement\, communications\, community engagement\, and strategic business intelligence teams. His groups are charged with coordinating outreach with customers\, communities and stakeholders\; enhancing our data capability\; and developing our customer service platform.<br />\n&nbsp\;<br />\n<br />\n<br />\n<span style="font-family: tahoma\; font-size: 12px\; font-weight: 700\;">&nbsp\;</span><br style="font-family: tahoma\;" />\n<span style="font-family:courier new\;"><span style="text-align: center\;"><u><span style="font-size: 12pt\;"><a href="http://info.kentchamber.com/events/details/kcc-membership-luncheon-pse-248129"><span style="color: rgb(0\, 0\, 255)\;">Register Online</span></a></span></u></span><br style="font-family: tahoma\;" />\n<span style="font-size: 10pt\; color: black\; text-align: center\;">Once you register you will be provided with the zoom meeting link</span><br />\n<span style="font-size: 10px\;"><span style="font-weight: 700\;"><span style="font-size:12px\;">Event Sponsor:</span>&nbsp\;</span></span><span style="font-size:14px\;"><em><a href="https://www.abyssiniabeautyclinic.com/" style="font-size: 10px\;"><span style="color: rgb(0\, 0\, 205)\;"><strong>Abyssinia Hair &amp\; Beauty Clinic</strong></span></a></em></span><br />\nMedia Sponsor:&nbsp\;<em><strong><a href="http://www.iLoveKent.net"><span style="color:#0000CD\;">iLoveKent.net&nbsp\;</span></a></strong></em></span>
LOCATION:Via Zoom you will be provided with the zoom link once you register
UID:e.444.248129
SEQUENCE:3
DTSTAMP:20260424T165330Z
URL:http://info.kentchamber.com/events/details/membership-luncheon-puget-sound-energy-248129
END:VEVENT

END:VCALENDAR
