BEGIN:VCALENDAR
VERSION:2.0
PRODID:-//ChamberMaster//Event Calendar 2.0//EN
METHOD:PUBLISH
X-PUBLISHED-TTL:P3D
REFRESH-INTERVAL:P3D
CALSCALE:GREGORIAN
BEGIN:VEVENT
DTSTART:20210603T183000Z
DTEND:20210603T200000Z
X-MICROSOFT-CDO-ALLDAYEVENT:FALSE
SUMMARY:Membership Luncheon City of Kent Legislative Update
DESCRIPTION:Join the Kent Chamber of Commerce as we discuss the Legislative Wrap-Up which provides an overview of what happened during session\, what didn't\, and what it means for Washingtonians. Our speakers will talk about the impact of the legislative session on food and agriculture\, education\, workforce\, environment\, transportation\, taxes and more.\n\n\n\n\n\n\n\n\n\nModerator Carmen Goers \n\nConfirmed Speakers\n\nCAO Derek Matheson\,  City of Kent\n\nSenator Mona Das\, 47th Legislative District\n\nSenator Karen Keiser\, 33rd Legislative District \n\nRepresentative Mia Gregerson 33rd Legislative District\n\nKing County Councilmember Dave Upthegrove\n\nRepresentative Tina Orwall 33rd Legislative District\n\n\n\n \n\nRegister Online\n\nOnce you register you will be provided with the zoom meeting link\nEvent Sponsor: Abyssinia Hair & Beauty Clinic\n\nMedia Sponsor: iLoveKent.net \n\nCaterer: Alki Bakery
X-ALT-DESC;FMTTYPE=text/html:<span style="font-size:14px\;"><span style="font-family:tahoma\;"><span font-size:="" new="" times="">Join the Kent Chamber of Commerce as we discuss the Legislative Wrap-Up which provides an overview of what happened during session\, what didn&#39\;t\, and what it means for Washingtonians. Our speakers will talk about the impact of the legislative session on food and agriculture\, education\, workforce\, environment\, transportation\, taxes and more.</span></span></span><br />\n<br />\n<br />\n<br />\n<br />\n<span style="font-size: 14px\;"><span style="font-family: tahoma\;"><span style="color:#000000\;"><strong>Moderator</strong>&nbsp\;</span>Carmen Goers&nbsp\;<br font-size:="" new="" times="" />\n<span style="font-weight: 700\;"><span style="color:#000000\;">Confirmed Speakers</span></span><br />\n<span style="color:#000000\;"><span courier=""><strong>CAO Derek Matheson</strong></span></span><span courier="" style="color: rgb(0\, 0\, 0)\;">\,&nbsp\; City of Kent</span></span></span><br />\n<span style="font-family:tahoma\;"><span style="font-size:14px\;"><span style="color:#000000\;"><strong>Senator Mona Das</strong></span></span></span><span style="color: black\;"><span style="font-size: 10pt\;">\, 47th Legislative District<br />\n<span style="font-size:14px\;"><span style="font-family:tahoma\;"><strong>Senator</strong> Karen Keiser\, 33rd Legislative District&nbsp\;</span></span></span></span><br />\n<strong><span style="font-size:14px\;"><span style="font-family:tahoma\;"><span style="color:#000000\;">Representative Mia Gregerson</span></span></span><span style="color: black\;">&nbsp\;</span></strong><span style="color: black\;"><span style="font-family: calibri\, sans-serif\;"><span style="font-size: 11pt\;">33rd Legislative District</span></span></span><br />\n<span style="font-size:14px\;"><span style="font-family:tahoma\;"><span style="color:#000000\;"><strong>King County Councilmember </strong>Dave Upthegrove<br />\n<strong>Representative Tina Orwall&nbsp\;</strong></span></span></span><span style="color: rgb(0\, 0\, 0)\; font-family: calibri\, sans-serif\; font-size: 14.6667px\;">33rd Legislative District</span><br />\n<br />\n<span style="font-size:14px\;"><span style="font-family:tahoma\;"><span style="font-weight: 700\;">&nbsp\;</span></span><br style="font-family: tahoma\;" />\n<span style="text-align: center\;"><u><a href="http://info.kentchamber.com/events/details/kcc-membership-luncheon-06-03-2021-248130"><span style="color: rgb(0\, 0\, 255)\;">Register Online</span></a></u></span><br style="font-family: tahoma\;" />\n<span style="font-family:tahoma\;"><span style="color: black\; text-align: center\;">Once you register you will be provided with the zoom meeting link</span></span></span>\n<p style="font-style: italic\;"><span style="color: black\; text-align: center\;"><strong>Event Sponsor:&nbsp\;</strong></span><em courier="" font-size:="" style="font-family: "><a href="https://www.abyssiniabeautyclinic.com/" style="font-size: 10px\;"><span style="color: rgb(0\, 0\, 205)\;"><strong>Abyssinia Hair &amp\; Beauty Clinic</strong></span></a></em><br />\n<span style="color:#000000\;"><strong>Media Sponsor</strong></span>:<span style="color:#0000FF\;">&nbsp\;</span><em><strong><a href="http://www.iLoveKent.net"><span style="color:#0000FF\;">iLoveKent.net&nbsp\;</span></a><br />\n<span style="color:#000000\;">Caterer:</span> <a href="http://www.alkibakery.com"><span style="color:#0000FF\;">Alki Bakery&nbsp\;</span></a></strong></em></p>\n
LOCATION:Via Zoom you will be provided with the zoom link once you register
UID:e.444.248130
SEQUENCE:3
DTSTAMP:20260423T114350Z
URL:http://info.kentchamber.com/events/details/membership-luncheon-city-of-kent-legislative-update-248130
END:VEVENT

END:VCALENDAR
