BEGIN:VCALENDAR
VERSION:2.0
PRODID:-//ChamberMaster//Event Calendar 2.0//EN
METHOD:PUBLISH
X-PUBLISHED-TTL:P3D
REFRESH-INTERVAL:P3D
CALSCALE:GREGORIAN
BEGIN:VEVENT
DTSTART:20170503T183000Z
DTEND:20170503T200000Z
X-MICROSOFT-CDO-ALLDAYEVENT:FALSE
SUMMARY:May Membership Luncheon: Economic Forecast Luncheon
DESCRIPTION:What does our economic forecast look like now that President Trump has taken office?  \n\nOur speaker Michael J. Serio is the regional chief investment officer for the Mountain Northwest region of Wells Fargo Private Bank. He leads a team of investment professionals who deliver comprehensive\, custom\, diversified portfolio management for clients of The Private Bank. In his role\, Mr. Serio serves as the investment thought leader in the region by providing insight and interpretation of the economy and financial markets at client events and through written commentary.\n\nPrior to joining Wells Fargo in 2013\, Mr. Serio co-founded Wolf Creek Energy Partners\, which was formed to finance minority interests in the shale oil and gas business. Prior to Wolf Creek Energy Partners\, he served as managing director for Citigroup Private Bank in Denver where he oversaw the investment process for five private bank offices serving the ultra affluent. He started his career as a portfolio manager for First National Bank of Chicago. He has also worked as a portfolio manager for Sanford Bernstein\, JP Morgan\, and Stein Roe & Farnham. Mr. Serio has more than 25 years of experience in financial services.\n\nHe was an adjunct professor at the University of Denver and DePaul University\, and has guest lectured at Stetson University and the University of Colorado. In addition\, Mr. Serio taught Chartered Financial Analyst (CFA) review courses for Stalla/Becker-Convisor from 1994 to 2003.\n\nHe earned a Bachelor of Science in Economics from the University of Illinois at Champaign and a Master of Business Administration in Finance from DePaul University. Mr. Serio is a CFA  charterholder and Chartered Alternative Investment Analyst (CAIA ) designee. He previously served as a committee chair and board director for the CFA Society of Chicago and was on the board of the Colorado Council for Economic Education. He currently serves on the board of directors for the HeartLight Center. Mr. Serio is based in Denver\, Colorado.
X-ALT-DESC;FMTTYPE=text/html:<span style="font-family: times new roman\;"><span style="font-size: 12px\;"><span style="font-size: 16px\;"><span style="font-weight: bold\; language: en-US\;">What does our economic forecast look like now that President Trump has taken office?&nbsp\; </span></span></span></span><br />\n<span style="font-size: 12px\;"><span style="font-size: 14px\;"><span style="language: en-US\;">Our speaker Michael J. Serio is the regional chief investment officer for the Mountain Northwest region of Wells Fargo Private Bank. He leads a team of investment professionals who deliver comprehensive\, custom\, diversified portfolio management for clients of The Private Bank. In his role\, Mr. Serio serves as the investment thought leader in the region by providing insight and interpretation of the economy and financial markets at client events and through written commentary.</span></span></span><br />\n<span style="font-size: 14px\;">Prior to joining Wells Fargo in 2013\, Mr. Serio co-founded Wolf Creek Energy Partners\, which was formed to finance minority interests in the shale oil and gas business. Prior to Wolf Creek Energy Partners\, he served as managing director for Citigroup Private Bank in Denver where he oversaw the investment process for five private bank offices serving the ultra affluent. He started his career as a portfolio manager for First National Bank of Chicago. He has also worked as a portfolio manager for Sanford Bernstein\, JP Morgan\, and Stein Roe &amp\; Farnham. Mr. Serio has more than 25 years of experience in financial services.<br />\nHe was an adjunct professor at the University of Denver and DePaul University\, and has guest lectured at Stetson University and the University of Colorado. In addition\, Mr. Serio taught Chartered Financial Analyst (CFA) review courses for Stalla/Becker-Convisor from 1994 to 2003.<br />\nHe earned a Bachelor of Science in Economics from the University of Illinois at Champaign and a Master of Business Administration in Finance from DePaul University. Mr. Serio is a CFA<span style="top: -2.5pt\; position: relative\;">&reg\; </span>charterholder and Chartered Alternative Investment Analyst (CAIA&#8480\;) designee. He previously served as a committee chair and board director for the CFA Society of Chicago and was on the board of the Colorado Council for Economic Education. He currently serves on the board of directors for the HeartLight Center. Mr. Serio is based in Denver\, Colorado.<br />\n<br />\n&nbsp\;</span><br />\n&nbsp\;
LOCATION:Golden Steer Steak 'n Rib House - 23826 104th Ave SE\, Kent\, WA 98031
UID:e.444.244080
SEQUENCE:3
DTSTAMP:20260422T203639Z
URL:http://info.kentchamber.com/events/details/may-membership-luncheon-economic-forecast-luncheon-244080
END:VEVENT

END:VCALENDAR
