BEGIN:VCALENDAR
VERSION:2.0
PRODID:-//ChamberMaster//Event Calendar 2.0//EN
METHOD:PUBLISH
X-PUBLISHED-TTL:P3D
REFRESH-INTERVAL:P3D
CALSCALE:GREGORIAN
BEGIN:VEVENT
DTSTART:20230418T230000Z
DTEND:20230419T003000Z
X-MICROSOFT-CDO-ALLDAYEVENT:FALSE
SUMMARY:MASTERCLASS: Work ON your business\, not just IN your business - Presented by Kevin Grossman\, MBA\, Certified Business Advisor
DESCRIPTION:What are your goals\, targets and aspirations for your business? Learn how to start working toward that aspirational goal in a long-term\, proactive way. Develop your business plan to better support your goals for the company\, as an owner or leader.\n\n\n\nMasterclass Presented by Kevin Grossman\, MBA\, Certified Business Advisor with the Small Business Development Center at Green River College.\n\n\n\nJ oin us as Kevin shares his tips on how to better your business by planning for the future.
X-ALT-DESC;FMTTYPE=text/html:<span style="font-family:arial\;"><span style="font-size:16px\;">What are your goals\, targets and aspirations for your business? Learn how to start working toward that aspirational goal in a long-term\, proactive way. Develop your business plan to better support your goals for the company\, as an owner or leader.<br />\n<br />\n<strong>Masterclass </strong>Presented by Kevin Grossman\, MBA\, Certified Business Advisor with the <a href="https://www.greenriver.edu/sbc/">Small Business Development Center at Green River College</a>.<br />\n<br />\n<span data-slate-fragment="JTdCJTIyb2JqZWN0JTIyJTNBJTIyZG9jdW1lbnQlMjIlMkMlMjJkYXRhJTIyJTNBJTdCJTdEJTJDJTIybm9kZXMlMjIlM0ElNUIlN0IlMjJvYmplY3QlMjIlM0ElMjJibG9jayUyMiUyQyUyMnR5cGUlMjIlM0ElMjJwYXJhZ3JhcGglMjIlMkMlMjJkYXRhJTIyJTNBJTdCJTdEJTJDJTIybm9kZXMlMjIlM0ElNUIlN0IlMjJvYmplY3QlMjIlM0ElMjJ0ZXh0JTIyJTJDJTIybGVhdmVzJTIyJTNBJTVCJTdCJTIyb2JqZWN0JTIyJTNBJTIybGVhZiUyMiUyQyUyMnRleHQlMjIlM0ElMjJKJUVGJUJCJUJGb2luJTIwdXMlMjBhcyUyMEtldmluJTIwc2hhcmVzJTIwaGlzJTIwdGlwcyUyMG9uJTIwaG93JTIwdG8lMjBiZXR0ZXIlMjB5b3VyJTIwYnVzaW5lc3MlMjBieSUyMHBsYW5uaW5nJTIwZm9yJTIwdGhlJTIwZnV0dXJlLiUyMiUyQyUyMm1hcmtzJTIyJTNBJTVCJTVEJTdEJTVEJTdEJTVEJTdEJTVEJTdE" style="white-space: pre\;">J&#65279\;oin us as Kevin shares his tips on how to better your business by planning for the future.</span></span></span>
LOCATION:In Person: Kent Chamber of Commerce office 524 W Meeker St. Suite 1 Kent\, WA 98032
UID:e.444.250147
SEQUENCE:3
DTSTAMP:20260420T103022Z
URL:http://info.kentchamber.com/events/details/masterclass-work-on-your-business-not-just-in-your-business-presented-by-kevin-grossman-mba-certified-business-advisor-250147
END:VEVENT

END:VCALENDAR
