BEGIN:VCALENDAR
VERSION:2.0
PRODID:-//ChamberMaster//Event Calendar 2.0//EN
METHOD:PUBLISH
X-PUBLISHED-TTL:P3D
REFRESH-INTERVAL:P3D
CALSCALE:GREGORIAN
BEGIN:VEVENT
DTSTART:20230713T010000Z
DTEND:20230713T030000Z
X-MICROSOFT-CDO-ALLDAYEVENT:FALSE
SUMMARY:Kent Station Summer Concert Series - The West Coast Feed
DESCRIPTION:Kicking off the Kent Station concerts with The West Coast Feed's high energy\, boot stompin' soul... Hailing from Seattle\, The West Coast Feed is an electrifying nine-piece experience that sounds like a Bruno Mars and Bruce Springsteen dance party. The band quickly gained notoriety throughout the west coast for their not-to-be-missed live shows fronted by charismatic lead singer\, Jesse Butterworth\, complete with three-man horn section\, soaring violin\, dueling electric guitars and a host of catchy and clever original songs. thewestcoastfeed.com Bring a chair and grab a spot on the grass or in the plaza OR find a table on a patio at the Ram or Agave Cocina & Cantina. Enjoy FREE music all summer long at the Kent Summer Concerts presented by the City of Kent and Kent Station. Details: KentStation.com and Kentwa.gov
X-ALT-DESC;FMTTYPE=text/html:Kicking off the Kent Station concerts with The West Coast Feed&#39\;s high energy\, boot stompin&#39\; soul... Hailing from Seattle\, The West Coast Feed is an electrifying nine-piece experience that sounds like a Bruno Mars and Bruce Springsteen dance party. The band quickly gained notoriety throughout the west coast for their not-to-be-missed live shows fronted by charismatic lead singer\, Jesse Butterworth\, complete with three-man horn section\, soaring violin\, dueling electric guitars and a host of catchy and clever original songs. thewestcoastfeed.com Bring a chair and grab a spot on the grass or in the plaza OR find a table on a patio at the Ram or Agave Cocina &amp\; Cantina. Enjoy FREE music all summer long at the Kent Summer Concerts presented by the City of Kent and Kent Station. Details: KentStation.com and Kentwa.gov
LOCATION:Kent Station 417 Ramsay Way Kent\, WA 98032
UID:e.444.250179
SEQUENCE:3
DTSTAMP:20260421T082555Z
URL:http://info.kentchamber.com/events/details/kent-station-summer-concert-series-the-west-coast-feed-250179
END:VEVENT

END:VCALENDAR
