BEGIN:VCALENDAR
VERSION:2.0
PRODID:-//ChamberMaster//Event Calendar 2.0//EN
METHOD:PUBLISH
X-PUBLISHED-TTL:P3D
REFRESH-INTERVAL:P3D
CALSCALE:GREGORIAN
BEGIN:VEVENT
DTSTART:20160607T010000Z
DTEND:20160607T030000Z
X-MICROSOFT-CDO-ALLDAYEVENT:FALSE
SUMMARY:Kent Community Foundation & Rotary Scholarship Awards Celebration
DESCRIPTION:Community Scholarship Celebration\n\n \n\nKent Community Foundation\, Rotary Club of Kent\, and the Kent Area PTSA would like to invite you to celebrate their 2016 scholarship recipients.  Please join us Monday\, June 6th at the Kent Meridian Performing Arts Center (10020 SE 256th St\, Kent\, WA 98030) at 6:00pm to honor these KSD students.
X-ALT-DESC;FMTTYPE=text/html:<span style="font-size: medium\;"><span style="font-family: times new roman\;">Community Scholarship Celebration</span></span><br />\n&nbsp\;<br />\n<span style="font-size: medium\;"><span style="font-family: times new roman\;">Kent Community Foundation\, Rotary Club of Kent\, and the Kent Area PTSA would like to invite you to celebrate their 2016 scholarship recipients.&nbsp\; Please join us Monday\, June 6th at the Kent Meridian Performing Arts Center (10020 SE 256th St\, Kent\, WA 98030) at 6:00pm to honor these KSD&nbsp\;students.&nbsp\; </span></span><br />\n&nbsp\;
LOCATION:Kent Meridian Performing Arts Center - 10020 SE 256th St\, Kent\, WA 98030
UID:e.444.243915
SEQUENCE:3
DTSTAMP:20260425T213124Z
URL:http://info.kentchamber.com/events/details/kent-community-foundation-rotary-scholarship-awards-celebration-06-06-2016-243915
END:VEVENT

END:VCALENDAR
