BEGIN:VCALENDAR
VERSION:2.0
PRODID:-//ChamberMaster//Event Calendar 2.0//EN
METHOD:PUBLISH
X-PUBLISHED-TTL:P3D
REFRESH-INTERVAL:P3D
CALSCALE:GREGORIAN
BEGIN:VEVENT
DTSTART:20170512T000000Z
DTEND:20170512T010000Z
X-MICROSOFT-CDO-ALLDAYEVENT:FALSE
SUMMARY:Grand Opening Ribbon Cutting with DAWN
DESCRIPTION:Join the Kent Chamber of Commerce and Mayor Suzette Cooke in congratulating DAWN at their Grand Re-Opening & Ribbon Cutting.
X-ALT-DESC;FMTTYPE=text/html:Join the Kent Chamber of Commerce and Mayor Suzette Cooke in congratulating DAWN at their Grand Re-Opening &amp\; Ribbon Cutting.
LOCATION:Located in downtown Kent at 211 West Gowe Street
UID:e.444.244079
SEQUENCE:3
DTSTAMP:20260425T233946Z
URL:http://info.kentchamber.com/events/details/grand-opening-ribbon-cutting-with-dawn-244079
END:VEVENT

END:VCALENDAR
