BEGIN:VCALENDAR
VERSION:2.0
PRODID:-//ChamberMaster//Event Calendar 2.0//EN
METHOD:PUBLISH
X-PUBLISHED-TTL:P3D
REFRESH-INTERVAL:P3D
CALSCALE:GREGORIAN
BEGIN:VEVENT
DTSTART:20170531T190000Z
DTEND:20170531T200000Z
X-MICROSOFT-CDO-ALLDAYEVENT:FALSE
SUMMARY:Government Affairs Committee interviewing council candidates: Tye Whitfield & Paul Addis
DESCRIPTION:The Government Affairs committee develops the Chamber's legislative agenda for issues addressed at the State legislature. The committee is comprised of small business\, corporate members and municipal leaders from Kent and around the region. The committee evaluates local\, regional and state issues that affect the business climate and quality of life (including initiatives and referendum). After extensive evaluation on issues the committee makes recommendations to the Board of Directors regarding the Chamber's position on issues.\n\n\n\nWe will interview City Council Candidates:\n\n\n\nPaul Addis and Tye Whitfeild during the May Government Affairs Meeting
X-ALT-DESC;FMTTYPE=text/html:<span style="background: rgb(255\, 255\, 255)\; font: 14px/21px &quot\;times new roman&quot\;\; margin: 0px\; padding: 0px\; border-radius: 0px\; border: currentColor\; border-image: 100% 1 0\; left: auto\; top: auto\; width: auto\; height: auto\; text-align: left\; right: auto\; bottom: auto\; color: rgb(68\, 68\, 68)\; text-transform: none\; text-indent: 0px\; letter-spacing: normal\; overflow: visible\; clear: none\; text-decoration: none\; word-spacing: 0px\; vertical-align: baseline\; float: none\; display: inline !important\; white-space: normal\; visibility: inherit\; border-collapse: separate\; position: static\; z-index: auto\; table-layout: auto\; direction: inherit\; -ms-word-break: inherit\; -ms-word-wrap: inherit\; -ms-text-overflow: clip\; max-height: none\; max-width: none\; content: normal\; box-sizing: content-box\; widows: 1\; empty-cells: show\; font-size-adjust: none\; font-stretch: normal\; opacity: 1\; box-shadow: none\; resize: none\; outline-offset: 0px\; -webkit-text-stroke-width: 0px\;">The Government Affairs committee develops the Chamber&rsquo\;s legislative agenda for issues addressed at the State legislature. The committee is comprised of small business\, corporate members and municipal leaders from Kent and around the region. The committee evaluates local\, regional and state issues that affect the business climate and quality of life (including initiatives and referendum). After extensive evaluation on issues the committee makes recommendations to the Board of Directors regarding the Chamber&rsquo\;s position on issues.<br />\n<br />\nWe will interview City Council Candidates:<br />\n<br />\nPaul Addis and Tye Whitfeild during the May Government Affairs Meeting</span>
LOCATION:Shannon & Associates\, CPA Conference Room located at the Kent Chamber of Commerce at 524 West Meeker\, Suite 1 in Downtown\, Kent.
UID:e.444.243971
SEQUENCE:3
DTSTAMP:20260420T181349Z
URL:http://info.kentchamber.com/events/details/government-affairs-committee-05-24-2017-243971
END:VEVENT

END:VCALENDAR
