BEGIN:VCALENDAR
VERSION:2.0
PRODID:-//ChamberMaster//Event Calendar 2.0//EN
METHOD:PUBLISH
X-PUBLISHED-TTL:P3D
REFRESH-INTERVAL:P3D
CALSCALE:GREGORIAN
BEGIN:VEVENT
DTSTART:20260422T223000Z
DTEND:20260422T233000Z
X-MICROSOFT-CDO-ALLDAYEVENT:FALSE
SUMMARY:Emerging Leaders of Kent Nonprofit Board Meeting
DESCRIPTION:The Emerging Leaders of Kent Nonprofit Board Meeting (Formally known as the Education Committee) convenes monthly to discuss program updates\, community partnerships\, fundraising strategies\, and leadership development opportunities. These sessions help guide the strategic direction of the organization and ensure continued alignment with its mission to empower youth through leadership\, education\, and civic engagement.
X-ALT-DESC;FMTTYPE=text/html:The Emerging Leaders of Kent Nonprofit Board Meeting (Formally known as the Education Committee) convenes monthly to discuss program updates\, community partnerships\, fundraising strategies\, and leadership development opportunities. These sessions help guide the strategic direction of the organization and ensure continued alignment with its mission to empower youth through leadership\, education\, and civic engagement.
LOCATION:Zoom Meeting (link provided upon registration)
UID:e.444.251438
SEQUENCE:3
DTSTAMP:20260420T111632Z
URL:http://info.kentchamber.com/events/details/emerging-leaders-of-kent-nonprofit-board-meeting-251438
END:VEVENT

END:VCALENDAR
