BEGIN:VCALENDAR
VERSION:2.0
PRODID:-//ChamberMaster//Event Calendar 2.0//EN
METHOD:PUBLISH
X-PUBLISHED-TTL:P3D
REFRESH-INTERVAL:P3D
CALSCALE:GREGORIAN
BEGIN:VEVENT
DTSTART:20180221T210000Z
DTEND:20180221T223000Z
X-MICROSOFT-CDO-ALLDAYEVENT:FALSE
SUMMARY:Board of Directors Meeting
DESCRIPTION:The Kent Chamber of Commerce Board of Directors consists of 21 voting members and 3 nonvoting community partners.  These meetings are open to any member that would like to observe.
X-ALT-DESC;FMTTYPE=text/html:<span style="color: rgb(68\, 68\, 68)\; font-family: &quot\;PT Sans&quot\;\, Arial\, Helvetica\, sans-serif\; font-size: 16px\;">The Kent Chamber of Commerce Board of Directors consists of 21 voting members and 3 nonvoting&nbsp\;community partners.&nbsp\; These meetings are open to any member that would like to observe.</span>
LOCATION:Shannon & Associates\, CPA Conference Room located at the Kent Chamber of Commerce at 524 West Meeker\, Suite 1 in downtown Kent
UID:e.444.244185
SEQUENCE:3
DTSTAMP:20260425T214517Z
URL:http://info.kentchamber.com/events/details/board-of-directors-meeting-244185
END:VEVENT

END:VCALENDAR
