BEGIN:VCALENDAR
VERSION:2.0
PRODID:-//ChamberMaster//Event Calendar 2.0//EN
METHOD:PUBLISH
X-PUBLISHED-TTL:P3D
REFRESH-INTERVAL:P3D
CALSCALE:GREGORIAN
BEGIN:VEVENT
DTSTART:20260429T210000Z
DTEND:20260429T230000Z
X-MICROSOFT-CDO-ALLDAYEVENT:FALSE
SUMMARY:Advocacy\, Equity\, and Civic Engagement
DESCRIPTION:Leadership extends beyond self it's about using your voice for others. This course empowers youth to understand civic systems\, identify equity issues\, and advocate for meaningful change in their schools and communities. Students will leave ready to engage in local decision-making and speak up with purpose.\n\nKey Takeaways:\n\n  Understand systems of power\, community voice\, and youth impact.\n\n  Learn advocacy skills and how to speak up for peers and change.\n\n  Activity: Draft a "Youth Bill of Rights" or advocacy campaign plan.
X-ALT-DESC;FMTTYPE=text/html:Leadership extends beyond self&mdash\;it&rsquo\;s about using your voice for others. This course empowers youth to understand civic systems\, identify equity issues\, and advocate for meaningful change in their schools and communities. Students will leave ready to engage in local decision-making and speak up with purpose.<br />\n<strong>Key Takeaways:</strong><br />\n&bull\; Understand systems of power\, community voice\, and youth impact.<br />\n&bull\; Learn advocacy skills and how to speak up for peers and change.<br />\n&bull\; <strong>Activity:</strong> Draft a &ldquo\;Youth Bill of Rights&rdquo\; or advocacy campaign plan.
LOCATION:Green River College Kent Campus 417 Ramsay Way #112\, Kent\, WA 98032
UID:e.444.251626
SEQUENCE:3
DTSTAMP:20260419T201307Z
URL:http://info.kentchamber.com/events/details/advocacy-equity-and-civic-engagement-251626
END:VEVENT

END:VCALENDAR
